BEGIN:VCALENDAR
PRODID:-//eluceo/ical//2.0/EN
VERSION:2.0
CALSCALE:GREGORIAN
BEGIN:VEVENT
UID:edbf1777c5bb2eeeb4002889605b88be
DTSTAMP:20260419T131253Z
SUMMARY:Théâtre : "Le Visiteur Inattendu" pièce inédite de Agatha Chris
 tie par la Compagnie des Deux Lunes
DESCRIPTION:Site internet: https://shop.utick.net/?module=ACTIVITYSERIEDETA
 ILS&pos=LASUCRERIEWAVRE&s=DD3D3007-0C8C-005F-4A53-AF5F0228D4A7
URL:https://wavre.rotary2150.org/fr/agenda/show/77959
DTSTART;TZID=Europe/Zurich:20241117T170000
DTEND;TZID=Europe/Zurich:20241117T230000
LOCATION:La Sucrerie Wavre
CATEGORIES:Rotary
END:VEVENT
BEGIN:VTIMEZONE
TZID:Europe/Zurich
BEGIN:STANDARD
DTSTART:20241117T170000
TZNAME:CET
TZOFFSETTO:+0100
TZOFFSETFROM:+0100
END:STANDARD
END:VTIMEZONE
END:VCALENDAR
